BEGIN:VCALENDAR
VERSION:2.0
PRODID:-//Tammy Oberhausen - ECPv6.15.20//NONSGML v1.0//EN
CALSCALE:GREGORIAN
METHOD:PUBLISH
X-WR-CALNAME:Tammy Oberhausen
X-ORIGINAL-URL:https://tammyoberhausen.com
X-WR-CALDESC:Events for Tammy Oberhausen
REFRESH-INTERVAL;VALUE=DURATION:PT1H
X-Robots-Tag:noindex
X-PUBLISHED-TTL:PT1H
BEGIN:VTIMEZONE
TZID:UTC
BEGIN:STANDARD
TZOFFSETFROM:+0000
TZOFFSETTO:+0000
TZNAME:UTC
DTSTART:20230101T000000
END:STANDARD
END:VTIMEZONE
BEGIN:VEVENT
DTSTART;TZID=UTC:20251207T130000
DTEND;TZID=UTC:20251207T160000
DTSTAMP:20260419T131430
CREATED:20251120T004912Z
LAST-MODIFIED:20251120T004912Z
UID:421-1765112400-1765123200@tammyoberhausen.com
SUMMARY:Book Signing
DESCRIPTION:Get a signed copy of The Evolution of the Gospelettes for a special reader on your Christmas list at Barbara Stewart Interiors in downtown Bowling Green\, Kentucky!
URL:https://tammyoberhausen.com/event/book-signing/
LOCATION:Barbara Stewart Interiors\, 444 E. Main Ave.\, Bowling Green\, KY\, United States
END:VEVENT
BEGIN:VEVENT
DTSTART;VALUE=DATE:20251015
DTEND;VALUE=DATE:20251016
DTSTAMP:20260419T131430
CREATED:20250627T174416Z
LAST-MODIFIED:20250627T174416Z
UID:416-1760486400-1760572799@tammyoberhausen.com
SUMMARY:Mary Ellen and Jim Wayne Miller Celebration of Writing
DESCRIPTION:
URL:https://tammyoberhausen.com/event/mary-ellen-and-jim-wayne-miller-celebration-of-writing/
LOCATION:Western Kentucky University\, Bowling Green\, KY\, United States
END:VEVENT
BEGIN:VEVENT
DTSTART;TZID=UTC:20250823T100000
DTEND;TZID=UTC:20250823T140000
DTSTAMP:20260419T131430
CREATED:20250627T174100Z
LAST-MODIFIED:20250627T174100Z
UID:414-1755943200-1755957600@tammyoberhausen.com
SUMMARY:Gathering of Authors
DESCRIPTION:
URL:https://tammyoberhausen.com/event/gathering-of-authors/
LOCATION:Paul Sawyier Public Library\, 319 Wapping St.\, Frankfort\, KY
END:VEVENT
BEGIN:VEVENT
DTSTART;TZID=UTC:20250721T133000
DTEND;TZID=UTC:20250721T143000
DTSTAMP:20260419T131430
CREATED:20250417T214719Z
LAST-MODIFIED:20250417T214719Z
UID:404-1753104600-1753108200@tammyoberhausen.com
SUMMARY:Appalachian Writers' Workshop
DESCRIPTION:Afternoon Session
URL:https://tammyoberhausen.com/event/appalachian-writers-workshop/
LOCATION:Hindman Settlement School\, Hindman\, Kentucky
END:VEVENT
BEGIN:VEVENT
DTSTART;TZID=UTC:20250529T171500
DTEND;TZID=UTC:20250529T183000
DTSTAMP:20260419T131430
CREATED:20250326T234856Z
LAST-MODIFIED:20250326T234856Z
UID:392-1748538900-1748543400@tammyoberhausen.com
SUMMARY:Spalding Alumni Celebration of New Works
DESCRIPTION:
URL:https://tammyoberhausen.com/event/spalding-alumni-celebration-of-new-works/
LOCATION:Egan Leadership Center\, 901 S. 4th St.\, Louisville\, KY\, 40203
END:VEVENT
BEGIN:VEVENT
DTSTART;TZID=UTC:20250503T100000
DTEND;TZID=UTC:20250503T150000
DTSTAMP:20260419T131430
CREATED:20250414T010435Z
LAST-MODIFIED:20250414T010435Z
UID:396-1746266400-1746284400@tammyoberhausen.com
SUMMARY:Locally Made Market
DESCRIPTION:
URL:https://tammyoberhausen.com/event/locally-made-market/
LOCATION:SOKY Marketplace Pavilion\, 636 Center Street\, Bowling Green\, KY
END:VEVENT
BEGIN:VEVENT
DTSTART;TZID=UTC:20250129T190000
DTEND;TZID=UTC:20250129T190000
DTSTAMP:20260419T131430
CREATED:20241203T045243Z
LAST-MODIFIED:20241203T045243Z
UID:319-1738177200-1738177200@tammyoberhausen.com
SUMMARY:A Conversation with Tammy Oberhausen and Katy Yocom
DESCRIPTION:Tammy Oberhausen\, author of The Evolution of the Gospelettes\, and Katy Yocom\, author of Three Ways to Disappear\, discuss their journeys to publishing their first novels after 50.
URL:https://tammyoberhausen.com/event/a-conversation-with-tammy-oberhausen-and-katy-yocom/
LOCATION:Carmichael’s Bookstore\, 2720 Frankfort Avenue\, Louisville\, KY\, 40206\, United States
END:VEVENT
BEGIN:VEVENT
DTSTART;TZID=UTC:20250118T170000
DTEND;TZID=UTC:20250118T180000
DTSTAMP:20260419T131430
CREATED:20241216T205223Z
LAST-MODIFIED:20241216T205536Z
UID:334-1737219600-1737223200@tammyoberhausen.com
SUMMARY:Signing
DESCRIPTION:
URL:https://tammyoberhausen.com/event/signing-2/
LOCATION:Broadway Books\, 1537A Winchester Avenue\, Ashland\, KY\, 41101
END:VEVENT
BEGIN:VEVENT
DTSTART;TZID=UTC:20250118T130000
DTEND;TZID=UTC:20250118T150000
DTSTAMP:20260419T131430
CREATED:20241203T044243Z
LAST-MODIFIED:20241203T044243Z
UID:315-1737205200-1737212400@tammyoberhausen.com
SUMMARY:Signing
DESCRIPTION:
URL:https://tammyoberhausen.com/event/signing/
LOCATION:Joseph-Beth Booksellers\, Lexington\, KY
END:VEVENT
BEGIN:VEVENT
DTSTART;TZID=UTC:20250114T170000
DTEND;TZID=UTC:20250114T170000
DTSTAMP:20260419T131430
CREATED:20241203T043555Z
LAST-MODIFIED:20241216T203532Z
UID:310-1736874000-1736874000@tammyoberhausen.com
SUMMARY:Signing
DESCRIPTION:
URL:https://tammyoberhausen.com/event/book-talk-signing-2/
LOCATION:Logan County Public Library\, Russellville\, KY\, United States
END:VEVENT
BEGIN:VEVENT
DTSTART;TZID=UTC:20241210T180000
DTEND;TZID=UTC:20241210T193000
DTSTAMP:20260419T131430
CREATED:20241011T215010Z
LAST-MODIFIED:20241011T215010Z
UID:284-1733853600-1733859000@tammyoberhausen.com
SUMMARY:Book Talk & Mini Workshop
DESCRIPTION:
URL:https://tammyoberhausen.com/event/book-talk-mini-workshop/
LOCATION:Estill County Public Library\, Irvine\, KY
END:VEVENT
BEGIN:VEVENT
DTSTART;TZID=UTC:20241123T140000
DTEND;TZID=UTC:20241123T150000
DTSTAMP:20260419T131430
CREATED:20240814T173258Z
LAST-MODIFIED:20241110T005521Z
UID:245-1732370400-1732374000@tammyoberhausen.com
SUMMARY:Signing
DESCRIPTION:
URL:https://tammyoberhausen.com/event/book-talk-signing/
LOCATION:Read Spotted Newt\, 221 Memorial Drive\, Hazard\, KY\, 41701
END:VEVENT
BEGIN:VEVENT
DTSTART;TZID=UTC:20241123T100000
DTEND;TZID=UTC:20241123T110000
DTSTAMP:20260419T131430
CREATED:20240814T173701Z
LAST-MODIFIED:20241110T223600Z
UID:249-1732356000-1732359600@tammyoberhausen.com
SUMMARY:Signing
DESCRIPTION:
URL:https://tammyoberhausen.com/event/ashlandsigning/
LOCATION:Broadway Books\, 1537A Winchester Avenue\, Ashland\, KY\, 41101
END:VEVENT
BEGIN:VEVENT
DTSTART;TZID=UTC:20241115T180000
DTEND;TZID=UTC:20241115T200000
DTSTAMP:20260419T131430
CREATED:20240406T170810Z
LAST-MODIFIED:20241011T214558Z
UID:133-1731693600-1731700800@tammyoberhausen.com
SUMMARY:An Evening with Tammy Oberhausen and Kentucky Poet Laureate Silas House
DESCRIPTION:Hosted by Warren County Public Library
URL:https://tammyoberhausen.com/event/book-launch/
LOCATION:Capitol Arts Center\, Bowling Green\, KY
END:VEVENT
BEGIN:VEVENT
DTSTART;TZID=UTC:20241112T180000
DTEND;TZID=UTC:20241112T180000
DTSTAMP:20260419T131430
CREATED:20240607T180708Z
LAST-MODIFIED:20240610T184339Z
UID:181-1731434400-1731434400@tammyoberhausen.com
SUMMARY:Book Talk & Signing
DESCRIPTION:
URL:https://tammyoberhausen.com/event/reading-signing/
LOCATION:Paul Sawyier Public Library\, 319 Wapping St.\, Frankfort\, KY
END:VEVENT
BEGIN:VEVENT
DTSTART;TZID=UTC:20241102T093000
DTEND;TZID=UTC:20241102T170000
DTSTAMP:20260419T131430
CREATED:20240607T181051Z
LAST-MODIFIED:20240607T181051Z
UID:185-1730539800-1730566800@tammyoberhausen.com
SUMMARY:Kentucky Book Festival
DESCRIPTION:
URL:https://tammyoberhausen.com/event/kentucky-book-festival-2/
LOCATION:Joseph-Beth Booksellers\, Lexington\, KY
END:VEVENT
END:VCALENDAR